Package: BBCAnalyzer Version: 1.39.0 Command: /home/biocbuild/R/R/bin/R CMD check --install=check:BBCAnalyzer.install-out.txt --library=/home/biocbuild/R/R/site-library --no-vignettes --timings BBCAnalyzer_1.39.0.tar.gz StartedAt: 2025-07-15 04:24:38 -0000 (Tue, 15 Jul 2025) EndedAt: 2025-07-15 04:30:44 -0000 (Tue, 15 Jul 2025) EllapsedTime: 366.1 seconds RetCode: 0 Status: OK CheckDir: BBCAnalyzer.Rcheck Warnings: 0