Package: BASiCStan Version: 1.11.0 Command: /home/biocbuild/R/R/bin/R CMD check --install=check:BASiCStan.install-out.txt --library=/home/biocbuild/R/R/site-library --no-vignettes --timings BASiCStan_1.11.0.tar.gz StartedAt: 2025-07-01 04:44:47 -0000 (Tue, 01 Jul 2025) EndedAt: 2025-07-01 04:51:48 -0000 (Tue, 01 Jul 2025) EllapsedTime: 421.2 seconds RetCode: 0 Status: WARNINGS CheckDir: BASiCStan.Rcheck Warnings: 1