Package: BASiCStan Version: 1.11.0 Command: /home/biocbuild/bbs-3.22-bioc/R/bin/R CMD INSTALL BASiCStan StartedAt: 2025-07-15 15:53:42 -0400 (Tue, 15 Jul 2025) EndedAt: 2025-07-15 15:58:16 -0400 (Tue, 15 Jul 2025) EllapsedTime: 274.6 seconds RetCode: 0 Status: OK