Package: BASiCStan Version: 1.11.0 Command: /home/biocbuild/bbs-3.22-bioc/R/bin/R CMD check --install=check:BASiCStan.install-out.txt --library=/home/biocbuild/bbs-3.22-bioc/R/site-library --timings BASiCStan_1.11.0.tar.gz StartedAt: 2025-07-01 20:09:45 -0400 (Tue, 01 Jul 2025) EndedAt: 2025-07-01 20:15:17 -0400 (Tue, 01 Jul 2025) EllapsedTime: 332.3 seconds RetCode: 0 Status: OK CheckDir: BASiCStan.Rcheck Warnings: 0