Package: BASiCStan Version: 1.11.0 Command: /home/biocbuild/bbs-3.22-bioc/R/bin/R CMD build --keep-empty-dirs --no-resave-data --md5 BASiCStan StartedAt: 2025-07-01 16:12:19 -0400 (Tue, 01 Jul 2025) EndedAt: 2025-07-01 16:17:19 -0400 (Tue, 01 Jul 2025) EllapsedTime: 300.3 seconds RetCode: 0 Status: OK PackageFile: BASiCStan_1.11.0.tar.gz PackageFileSize: 64.99 KiB