Package: BASiCS Version: 2.21.0 Command: F:\biocbuild\bbs-3.22-bioc\R\bin\R.exe CMD INSTALL BASiCS StartedAt: 2025-07-04 16:52:57 -0400 (Fri, 04 Jul 2025) EndedAt: 2025-07-04 16:54:56 -0400 (Fri, 04 Jul 2025) EllapsedTime: 119.3 seconds RetCode: 0 Status: OK