Package: BASiCS Version: 2.21.0 Command: rm -rf BASiCS.buildbin-libdir && mkdir BASiCS.buildbin-libdir && F:\biocbuild\bbs-3.22-bioc\R\bin\R.exe CMD INSTALL --build --library=BASiCS.buildbin-libdir BASiCS_2.21.0.tar.gz StartedAt: 2025-07-05 08:23:03 -0400 (Sat, 05 Jul 2025) EndedAt: 2025-07-05 08:25:21 -0400 (Sat, 05 Jul 2025) EllapsedTime: 137.9 seconds RetCode: 0 Status: OK PackageFile: BASiCS_2.21.0.zip PackageFileSize: 3.916 MiB