Package: BANDITS Version: 1.25.1 Command: /home/biocbuild/R/R/bin/R CMD INSTALL BANDITS StartedAt: 2025-10-02 20:58:04 -0000 (Thu, 02 Oct 2025) EndedAt: 2025-10-02 20:59:32 -0000 (Thu, 02 Oct 2025) EllapsedTime: 88.0 seconds RetCode: 0 Status: OK