Package: BANDITS Version: 1.25.1 Command: /home/biocbuild/R/R/bin/R CMD check --install=check:BANDITS.install-out.txt --library=/home/biocbuild/R/R/site-library --no-vignettes --timings BANDITS_1.25.1.tar.gz StartedAt: 2025-10-03 04:46:16 -0000 (Fri, 03 Oct 2025) EndedAt: 2025-10-03 04:49:30 -0000 (Fri, 03 Oct 2025) EllapsedTime: 193.2 seconds RetCode: 0 Status: OK CheckDir: BANDITS.Rcheck Warnings: 0