Package: BANDITS Version: 1.25.1 Command: /home/biocbuild/bbs-3.22-bioc/R/bin/R CMD check --install=check:BANDITS.install-out.txt --library=/home/biocbuild/bbs-3.22-bioc/R/site-library --timings BANDITS_1.25.1.tar.gz StartedAt: 2025-10-05 21:16:11 -0400 (Sun, 05 Oct 2025) EndedAt: 2025-10-05 21:20:20 -0400 (Sun, 05 Oct 2025) EllapsedTime: 248.8 seconds RetCode: 0 Status: OK CheckDir: BANDITS.Rcheck Warnings: 0