Package: BANDITS Version: 1.25.1 Command: /Library/Frameworks/R.framework/Resources/bin/R CMD check --install=check:BANDITS.install-out.txt --library=/Library/Frameworks/R.framework/Resources/library --no-vignettes --timings BANDITS_1.25.1.tar.gz StartedAt: 2025-10-05 18:21:56 -0400 (Sun, 05 Oct 2025) EndedAt: 2025-10-05 18:23:03 -0400 (Sun, 05 Oct 2025) EllapsedTime: 66.7 seconds RetCode: 0 Status: OK CheckDir: BANDITS.Rcheck Warnings: 0