Package: BANDITS Version: 1.25.1 Command: /Library/Frameworks/R.framework/Resources/bin/R CMD build --keep-empty-dirs --no-resave-data BANDITS StartedAt: 2025-10-05 15:40:22 -0400 (Sun, 05 Oct 2025) EndedAt: 2025-10-05 15:41:20 -0400 (Sun, 05 Oct 2025) EllapsedTime: 57.6 seconds RetCode: 0 Status: OK PackageFile: BANDITS_1.25.1.tar.gz PackageFileSize: 1.221 MiB