Package: BAGS Version: 2.49.0 Command: /home/biocbuild/R/R/bin/R CMD check --install=check:BAGS.install-out.txt --library=/home/biocbuild/R/R/site-library --no-vignettes --timings BAGS_2.49.0.tar.gz StartedAt: 2025-07-18 04:26:45 -0000 (Fri, 18 Jul 2025) EndedAt: 2025-07-18 04:27:53 -0000 (Fri, 18 Jul 2025) EllapsedTime: 68.1 seconds RetCode: 0 Status: OK CheckDir: BAGS.Rcheck Warnings: 0