Package: BAGS Version: 2.49.0 Command: /home/biocbuild/R/R/bin/R CMD build --keep-empty-dirs --no-resave-data BAGS StartedAt: 2025-07-17 21:41:41 -0000 (Thu, 17 Jul 2025) EndedAt: 2025-07-17 21:42:11 -0000 (Thu, 17 Jul 2025) EllapsedTime: 30.0 seconds RetCode: 0 Status: OK PackageFile: BAGS_2.49.0.tar.gz PackageFileSize: 270.1 KiB