Package: BAGS Version: 2.49.0 Command: F:\biocbuild\bbs-3.22-bioc\R\bin\R.exe CMD INSTALL BAGS StartedAt: 2025-07-18 15:23:59 -0400 (Fri, 18 Jul 2025) EndedAt: 2025-07-18 15:24:16 -0400 (Fri, 18 Jul 2025) EllapsedTime: 17.0 seconds RetCode: 0 Status: OK