Package: BAGS Version: 2.49.0 Command: F:\biocbuild\bbs-3.22-bioc\R\bin\R.exe CMD check --no-multiarch --install=check:BAGS.install-out.txt --library=F:\biocbuild\bbs-3.22-bioc\R\library --no-vignettes --timings BAGS_2.49.0.tar.gz StartedAt: 2025-07-18 23:30:58 -0400 (Fri, 18 Jul 2025) EndedAt: 2025-07-18 23:32:28 -0400 (Fri, 18 Jul 2025) EllapsedTime: 89.4 seconds RetCode: 0 Status: OK CheckDir: BAGS.Rcheck Warnings: 0