Package: BAGS Version: 2.49.0 Command: chmod a+r BAGS -R && F:\biocbuild\bbs-3.22-bioc\R\bin\R.exe CMD build --keep-empty-dirs --no-resave-data BAGS StartedAt: 2025-07-18 17:25:29 -0400 (Fri, 18 Jul 2025) EndedAt: 2025-07-18 17:26:07 -0400 (Fri, 18 Jul 2025) EllapsedTime: 37.7 seconds RetCode: 0 Status: OK PackageFile: BAGS_2.49.0.tar.gz PackageFileSize: 198.9 KiB