Package: BAGS Version: 2.49.0 Command: /home/biocbuild/bbs-3.22-bioc/R/bin/R CMD build --keep-empty-dirs --no-resave-data --md5 BAGS StartedAt: 2025-07-16 16:24:23 -0400 (Wed, 16 Jul 2025) EndedAt: 2025-07-16 16:24:44 -0400 (Wed, 16 Jul 2025) EllapsedTime: 21.0 seconds RetCode: 0 Status: OK PackageFile: BAGS_2.49.0.tar.gz PackageFileSize: 275.8 KiB