Package: BAGS Version: 2.49.0 Command: /Library/Frameworks/R.framework/Resources/bin/R CMD INSTALL BAGS StartedAt: 2025-07-18 15:13:10 -0400 (Fri, 18 Jul 2025) EndedAt: 2025-07-18 15:13:18 -0400 (Fri, 18 Jul 2025) EllapsedTime: 8.5 seconds RetCode: 0 Status: OK