Package: BAGS Version: 2.49.0 Command: rm -rf BAGS.buildbin-libdir && mkdir BAGS.buildbin-libdir && /Users/biocbuild/BBS/utils/build-universal.sh BAGS_2.49.0.tar.gz /Library/Frameworks/R.framework/Resources/bin/R BAGS.buildbin-libdir StartedAt: 2025-07-19 00:37:41 -0400 (Sat, 19 Jul 2025) EndedAt: 2025-07-19 00:37:49 -0400 (Sat, 19 Jul 2025) EllapsedTime: 8.2 seconds RetCode: 0 Status: OK PackageFile: BAGS_2.49.0.tgz PackageFileSize: 317.3 KiB