Package: BAGS Version: 2.49.0 Command: /Library/Frameworks/R.framework/Resources/bin/R CMD INSTALL BAGS StartedAt: 2025-07-16 15:06:23 -0400 (Wed, 16 Jul 2025) EndedAt: 2025-07-16 15:06:25 -0400 (Wed, 16 Jul 2025) EllapsedTime: 2.1 seconds RetCode: 0 Status: OK