Package: BAGS Version: 2.49.0 Command: /Library/Frameworks/R.framework/Resources/bin/R CMD check --install=check:BAGS.install-out.txt --library=/Library/Frameworks/R.framework/Resources/library --no-vignettes --timings BAGS_2.49.0.tar.gz StartedAt: 2025-07-17 18:10:15 -0400 (Thu, 17 Jul 2025) EndedAt: 2025-07-17 18:10:43 -0400 (Thu, 17 Jul 2025) EllapsedTime: 27.3 seconds RetCode: 0 Status: OK CheckDir: BAGS.Rcheck Warnings: 0