Package: BAGS Version: 2.49.0 Command: /Library/Frameworks/R.framework/Resources/bin/R CMD build --keep-empty-dirs --no-resave-data BAGS StartedAt: 2025-07-16 15:38:31 -0400 (Wed, 16 Jul 2025) EndedAt: 2025-07-16 15:38:42 -0400 (Wed, 16 Jul 2025) EllapsedTime: 11.1 seconds RetCode: 0 Status: OK PackageFile: BAGS_2.49.0.tar.gz PackageFileSize: 273.6 KiB