Package: BAGS Version: 2.49.0 Maintainer: Alejandro Quiroz-Zarate MaintainerEmail: aquiroz at jimmy.harvard.edu git_url: https://git.bioconductor.org/packages/BAGS git_branch: devel git_last_commit: 65b0358 git_last_commit_date: 2025-04-15 10:12:16 -0400 (Tue, 15 Apr 2025)