Package: BADER Version: 1.47.0 Command: /home/biocbuild/R/R/bin/R CMD check --install=check:BADER.install-out.txt --library=/home/biocbuild/R/R/site-library --no-vignettes --timings BADER_1.47.0.tar.gz StartedAt: 2025-07-22 04:40:26 -0000 (Tue, 22 Jul 2025) EndedAt: 2025-07-22 04:40:51 -0000 (Tue, 22 Jul 2025) EllapsedTime: 25.1 seconds RetCode: 0 Status: OK CheckDir: BADER.Rcheck Warnings: 0