Package: BADER Version: 1.47.0 Command: /home/biocbuild/R/R/bin/R CMD build --keep-empty-dirs --no-resave-data BADER StartedAt: 2025-07-21 21:53:44 -0000 (Mon, 21 Jul 2025) EndedAt: 2025-07-21 21:54:02 -0000 (Mon, 21 Jul 2025) EllapsedTime: 18.0 seconds RetCode: 0 Status: OK PackageFile: BADER_1.47.0.tar.gz PackageFileSize: 231.9 KiB