Package: BADER Version: 1.47.0 Command: F:\biocbuild\bbs-3.22-bioc\R\bin\R.exe CMD INSTALL BADER StartedAt: 2025-07-22 15:19:04 -0400 (Tue, 22 Jul 2025) EndedAt: 2025-07-22 15:19:14 -0400 (Tue, 22 Jul 2025) EllapsedTime: 10.1 seconds RetCode: 0 Status: OK