Package: BADER Version: 1.47.0 Command: rm -rf BADER.buildbin-libdir && mkdir BADER.buildbin-libdir && F:\biocbuild\bbs-3.22-bioc\R\bin\R.exe CMD INSTALL --build --library=BADER.buildbin-libdir BADER_1.47.0.tar.gz StartedAt: 2025-07-23 08:36:59 -0400 (Wed, 23 Jul 2025) EndedAt: 2025-07-23 08:37:12 -0400 (Wed, 23 Jul 2025) EllapsedTime: 12.6 seconds RetCode: 0 Status: OK PackageFile: BADER_1.47.0.zip PackageFileSize: 237.4 KiB