Package: BADER Version: 1.47.0 Command: /Library/Frameworks/R.framework/Resources/bin/R CMD INSTALL BADER StartedAt: 2025-07-14 15:03:46 -0400 (Mon, 14 Jul 2025) EndedAt: 2025-07-14 15:03:51 -0400 (Mon, 14 Jul 2025) EllapsedTime: 5.4 seconds RetCode: 0 Status: OK