Package: AssessORF Version: 1.27.0 Command: F:\biocbuild\bbs-3.22-bioc\R\bin\R.exe CMD INSTALL AssessORF StartedAt: 2025-07-01 15:52:15 -0400 (Tue, 01 Jul 2025) EndedAt: 2025-07-01 15:52:38 -0400 (Tue, 01 Jul 2025) EllapsedTime: 23.1 seconds RetCode: 0 Status: OK