Package: AssessORF Version: 1.27.0 Command: F:\biocbuild\bbs-3.22-bioc\R\bin\R.exe CMD check --no-multiarch --install=check:AssessORF.install-out.txt --library=F:\biocbuild\bbs-3.22-bioc\R\library --no-vignettes --timings AssessORF_1.27.0.tar.gz StartedAt: 2025-07-01 23:22:05 -0400 (Tue, 01 Jul 2025) EndedAt: 2025-07-01 23:24:31 -0400 (Tue, 01 Jul 2025) EllapsedTime: 146.4 seconds RetCode: 0 Status: OK CheckDir: AssessORF.Rcheck Warnings: 0