Package: AssessORF Version: 1.27.0 Command: rm -rf AssessORF.buildbin-libdir && mkdir AssessORF.buildbin-libdir && F:\biocbuild\bbs-3.22-bioc\R\bin\R.exe CMD INSTALL --build --library=AssessORF.buildbin-libdir AssessORF_1.27.0.tar.gz StartedAt: 2025-07-02 08:20:38 -0400 (Wed, 02 Jul 2025) EndedAt: 2025-07-02 08:21:03 -0400 (Wed, 02 Jul 2025) EllapsedTime: 25.7 seconds RetCode: 0 Status: OK PackageFile: AssessORF_1.27.0.zip PackageFileSize: 4.796 MiB