Package: AnnotationHub Version: 3.99.6 Command: /Library/Frameworks/R.framework/Resources/bin/R CMD INSTALL AnnotationHub StartedAt: 2025-07-21 15:19:06 -0400 (Mon, 21 Jul 2025) EndedAt: 2025-07-21 15:19:30 -0400 (Mon, 21 Jul 2025) EllapsedTime: 23.8 seconds RetCode: 0 Status: OK