Package: AnnotationHub Version: 3.99.6 Command: /Library/Frameworks/R.framework/Resources/bin/R CMD check --install=check:AnnotationHub.install-out.txt --library=/Library/Frameworks/R.framework/Resources/library --no-vignettes --timings AnnotationHub_3.99.6.tar.gz StartedAt: 2025-07-21 19:02:39 -0400 (Mon, 21 Jul 2025) EndedAt: 2025-07-21 19:07:37 -0400 (Mon, 21 Jul 2025) EllapsedTime: 297.6 seconds RetCode: 0 Status: OK CheckDir: AnnotationHub.Rcheck Warnings: 0