Package: AnnotationHub Version: 3.99.6 Command: rm -rf AnnotationHub.buildbin-libdir && mkdir AnnotationHub.buildbin-libdir && /Users/biocbuild/BBS/utils/build-universal.sh AnnotationHub_3.99.6.tar.gz /Library/Frameworks/R.framework/Resources/bin/R AnnotationHub.buildbin-libdir StartedAt: 2025-07-22 00:48:46 -0400 (Tue, 22 Jul 2025) EndedAt: 2025-07-22 00:49:15 -0400 (Tue, 22 Jul 2025) EllapsedTime: 28.7 seconds RetCode: 0 Status: OK PackageFile: AnnotationHub_3.99.6.tgz PackageFileSize: 1.238 MiB