Package: AnnotationForge Version: 1.51.0 Command: /home/biocbuild/R/R/bin/R CMD check --install=check:AnnotationForge.install-out.txt --library=/home/biocbuild/R/R/site-library --no-vignettes --timings AnnotationForge_1.51.0.tar.gz StartedAt: 2025-07-08 03:59:12 -0000 (Tue, 08 Jul 2025) EndedAt: 2025-07-08 04:02:18 -0000 (Tue, 08 Jul 2025) EllapsedTime: 186.5 seconds RetCode: 0 Status: OK CheckDir: AnnotationForge.Rcheck Warnings: 0