Package: AnnotationForge Version: 1.51.0 Command: F:\biocbuild\bbs-3.22-bioc\R\bin\R.exe CMD check --no-multiarch --install=check:AnnotationForge.install-out.txt --library=F:\biocbuild\bbs-3.22-bioc\R\library --no-vignettes --timings AnnotationForge_1.51.0.tar.gz StartedAt: 2025-07-14 23:20:03 -0400 (Mon, 14 Jul 2025) EndedAt: 2025-07-14 23:22:44 -0400 (Mon, 14 Jul 2025) EllapsedTime: 160.9 seconds RetCode: 0 Status: OK CheckDir: AnnotationForge.Rcheck Warnings: 0