Package: AnnotationForge Version: 1.51.0 Command: rm -rf AnnotationForge.buildbin-libdir && mkdir AnnotationForge.buildbin-libdir && F:\biocbuild\bbs-3.22-bioc\R\bin\R.exe CMD INSTALL --build --library=AnnotationForge.buildbin-libdir AnnotationForge_1.51.0.tar.gz StartedAt: 2025-07-15 08:24:18 -0400 (Tue, 15 Jul 2025) EndedAt: 2025-07-15 08:26:16 -0400 (Tue, 15 Jul 2025) EllapsedTime: 118.1 seconds RetCode: 0 Status: OK PackageFile: AnnotationForge_1.51.0.zip PackageFileSize: 4.373 MiB