Package: Anaquin Version: 2.33.0 Command: /home/biocbuild/R/R/bin/R CMD INSTALL Anaquin StartedAt: 2025-10-02 20:43:28 -0000 (Thu, 02 Oct 2025) EndedAt: 2025-10-02 20:43:36 -0000 (Thu, 02 Oct 2025) EllapsedTime: 8.0 seconds RetCode: 0 Status: OK