Package: Anaquin Version: 2.33.0 Command: F:\biocbuild\bbs-3.22-bioc\R\bin\R.exe CMD INSTALL Anaquin StartedAt: 2025-07-20 15:59:18 -0400 (Sun, 20 Jul 2025) EndedAt: 2025-07-20 15:59:29 -0400 (Sun, 20 Jul 2025) EllapsedTime: 11.1 seconds RetCode: 0 Status: OK