Package: Anaquin Version: 2.33.0 Command: chmod a+r Anaquin -R && F:\biocbuild\bbs-3.22-bioc\R\bin\R.exe CMD build --keep-empty-dirs --no-resave-data Anaquin StartedAt: 2025-07-20 17:18:10 -0400 (Sun, 20 Jul 2025) EndedAt: 2025-07-20 17:19:00 -0400 (Sun, 20 Jul 2025) EllapsedTime: 49.9 seconds RetCode: 0 Status: OK PackageFile: Anaquin_2.33.0.tar.gz PackageFileSize: 451.3 KiB