Package: Anaquin Version: 2.33.0 Command: /Library/Frameworks/R.framework/Resources/bin/R CMD INSTALL Anaquin StartedAt: 2025-07-15 15:33:49 -0400 (Tue, 15 Jul 2025) EndedAt: 2025-07-15 15:33:56 -0400 (Tue, 15 Jul 2025) EllapsedTime: 7.9 seconds RetCode: 0 Status: OK