Package: Anaquin Version: 2.33.0 Command: /Library/Frameworks/R.framework/Resources/bin/R CMD build --keep-empty-dirs --no-resave-data Anaquin StartedAt: 2025-07-16 16:03:19 -0400 (Wed, 16 Jul 2025) EndedAt: 2025-07-16 16:03:49 -0400 (Wed, 16 Jul 2025) EllapsedTime: 30.8 seconds RetCode: 0 Status: OK PackageFile: Anaquin_2.33.0.tar.gz PackageFileSize: 450.1 KiB