Package: Anaquin Version: 2.33.0 Command: rm -rf Anaquin.buildbin-libdir && mkdir Anaquin.buildbin-libdir && /Users/biocbuild/BBS/utils/build-universal.sh Anaquin_2.33.0.tar.gz /Library/Frameworks/R.framework/Resources/bin/R Anaquin.buildbin-libdir StartedAt: 2025-07-17 00:43:28 -0400 (Thu, 17 Jul 2025) EndedAt: 2025-07-17 00:43:38 -0400 (Thu, 17 Jul 2025) EllapsedTime: 10.3 seconds RetCode: 0 Status: OK PackageFile: Anaquin_2.33.0.tgz PackageFileSize: 454.9 KiB