Package: AnVILWorkflow Version: 1.9.0 Command: /Library/Frameworks/R.framework/Resources/bin/R CMD INSTALL AnVILWorkflow StartedAt: 2025-10-03 15:06:31 -0400 (Fri, 03 Oct 2025) EndedAt: 2025-10-03 15:06:36 -0400 (Fri, 03 Oct 2025) EllapsedTime: 5.3 seconds RetCode: 0 Status: OK