Package: AnVILPublish Version: 1.19.0 Command: /home/biocbuild/R/R/bin/R CMD INSTALL AnVILPublish StartedAt: 2025-07-14 20:21:21 -0000 (Mon, 14 Jul 2025) EndedAt: 2025-07-14 20:21:53 -0000 (Mon, 14 Jul 2025) EllapsedTime: 31.9 seconds RetCode: 0 Status: OK