Package: AnVILPublish Version: 1.19.0 Command: chmod a+r AnVILPublish -R && F:\biocbuild\bbs-3.22-bioc\R\bin\R.exe CMD build --keep-empty-dirs --no-resave-data AnVILPublish StartedAt: 2025-07-21 17:26:37 -0400 (Mon, 21 Jul 2025) EndedAt: 2025-07-21 17:27:05 -0400 (Mon, 21 Jul 2025) EllapsedTime: 27.4 seconds RetCode: 0 Status: OK PackageFile: AnVILPublish_1.19.0.tar.gz PackageFileSize: 236.1 KiB