Package: AnVILPublish Version: 1.19.0 Command: rm -rf AnVILPublish.buildbin-libdir && mkdir AnVILPublish.buildbin-libdir && /Users/biocbuild/BBS/utils/build-universal.sh AnVILPublish_1.19.0.tar.gz /Library/Frameworks/R.framework/Resources/bin/R AnVILPublish.buildbin-libdir StartedAt: 2025-07-03 00:32:53 -0400 (Thu, 03 Jul 2025) EndedAt: 2025-07-03 00:33:04 -0400 (Thu, 03 Jul 2025) EllapsedTime: 10.6 seconds RetCode: 0 Status: OK PackageFile: AnVILPublish_1.19.0.tgz PackageFileSize: 258.9 KiB