Package: AnVILPublish Version: 1.19.0 Command: /Library/Frameworks/R.framework/Resources/bin/R CMD INSTALL AnVILPublish StartedAt: 2025-07-13 15:05:29 -0400 (Sun, 13 Jul 2025) EndedAt: 2025-07-13 15:05:34 -0400 (Sun, 13 Jul 2025) EllapsedTime: 4.8 seconds RetCode: 0 Status: OK