Package: AnVILPublish Version: 1.19.0 Command: /Library/Frameworks/R.framework/Resources/bin/R CMD build --keep-empty-dirs --no-resave-data AnVILPublish StartedAt: 2025-07-13 15:36:43 -0400 (Sun, 13 Jul 2025) EndedAt: 2025-07-13 15:36:47 -0400 (Sun, 13 Jul 2025) EllapsedTime: 4.1 seconds RetCode: 0 Status: OK PackageFile: AnVILPublish_1.19.0.tar.gz PackageFileSize: 236 KiB